BEGIN:VCALENDAR
VERSION:2.0
PRODID:-//Celebration Beach Church - ECPv6.15.20//NONSGML v1.0//EN
CALSCALE:GREGORIAN
METHOD:PUBLISH
X-ORIGINAL-URL:https://celebrationbeachchurch.com
X-WR-CALDESC:Events for Celebration Beach Church
REFRESH-INTERVAL;VALUE=DURATION:PT1H
X-Robots-Tag:noindex
X-PUBLISHED-TTL:PT1H
BEGIN:VTIMEZONE
TZID:America/New_York
BEGIN:DAYLIGHT
TZOFFSETFROM:-0500
TZOFFSETTO:-0400
TZNAME:EDT
DTSTART:20250309T070000
END:DAYLIGHT
BEGIN:STANDARD
TZOFFSETFROM:-0400
TZOFFSETTO:-0500
TZNAME:EST
DTSTART:20251102T060000
END:STANDARD
BEGIN:DAYLIGHT
TZOFFSETFROM:-0500
TZOFFSETTO:-0400
TZNAME:EDT
DTSTART:20260308T070000
END:DAYLIGHT
BEGIN:STANDARD
TZOFFSETFROM:-0400
TZOFFSETTO:-0500
TZNAME:EST
DTSTART:20261101T060000
END:STANDARD
BEGIN:DAYLIGHT
TZOFFSETFROM:-0500
TZOFFSETTO:-0400
TZNAME:EDT
DTSTART:20270314T070000
END:DAYLIGHT
BEGIN:STANDARD
TZOFFSETFROM:-0400
TZOFFSETTO:-0500
TZNAME:EST
DTSTART:20271107T060000
END:STANDARD
END:VTIMEZONE
BEGIN:VEVENT
DTSTART;TZID=America/New_York:20260207T100000
DTEND;TZID=America/New_York:20260207T120000
DTSTAMP:20260424T061640
CREATED:20260202T184820Z
LAST-MODIFIED:20260202T184820Z
UID:10001376-1770458400-1770465600@celebrationbeachchurch.com
SUMMARY:Sisterhood
DESCRIPTION:Are you ready to embark on a journey of sisterhood like no other? Get ready to celebrate and embrace the power of connection\, as we dive into a new sisterhood series “Fruit of the Spirit” that will elevate your spiritual life to new heights.  In this series\, we will explore the transformative nature of spiritual disciplines and how they can infuse your life with love\, joy\, peace\, and a deeper relationship with God. Join us as we come together in 2026 to experience the richness and beauty of sisterhood and discover the incredible growth and transformation that awaits us. We meet the 1st Saturday of every month from 10 am – 12 pm in the Lana Hope Conference Center.
URL:https://celebrationbeachchurch.com/event/sisterhood/
LOCATION:Lana Hope Conference Room\, 671 Goodlette Frank Road North Suite 220\, Naples\, FL\, 34102\, United States
END:VEVENT
END:VCALENDAR