BEGIN:VCALENDAR
VERSION:2.0
PRODID:-//Celebration Beach Church - ECPv6.15.20//NONSGML v1.0//EN
CALSCALE:GREGORIAN
METHOD:PUBLISH
X-WR-CALNAME:Celebration Beach Church
X-ORIGINAL-URL:https://celebrationbeachchurch.com
X-WR-CALDESC:Events for Celebration Beach Church
REFRESH-INTERVAL;VALUE=DURATION:PT1H
X-Robots-Tag:noindex
X-PUBLISHED-TTL:PT1H
BEGIN:VTIMEZONE
TZID:America/New_York
BEGIN:DAYLIGHT
TZOFFSETFROM:-0500
TZOFFSETTO:-0400
TZNAME:EDT
DTSTART:20250309T070000
END:DAYLIGHT
BEGIN:STANDARD
TZOFFSETFROM:-0400
TZOFFSETTO:-0500
TZNAME:EST
DTSTART:20251102T060000
END:STANDARD
BEGIN:DAYLIGHT
TZOFFSETFROM:-0500
TZOFFSETTO:-0400
TZNAME:EDT
DTSTART:20260308T070000
END:DAYLIGHT
BEGIN:STANDARD
TZOFFSETFROM:-0400
TZOFFSETTO:-0500
TZNAME:EST
DTSTART:20261101T060000
END:STANDARD
BEGIN:DAYLIGHT
TZOFFSETFROM:-0500
TZOFFSETTO:-0400
TZNAME:EDT
DTSTART:20270314T070000
END:DAYLIGHT
BEGIN:STANDARD
TZOFFSETFROM:-0400
TZOFFSETTO:-0500
TZNAME:EST
DTSTART:20271107T060000
END:STANDARD
END:VTIMEZONE
BEGIN:VEVENT
DTSTART;TZID=America/New_York:20260315T093000
DTEND;TZID=America/New_York:20260315T103000
DTSTAMP:20260422T084130
CREATED:20260217T160008Z
LAST-MODIFIED:20260217T162315Z
UID:10000045-1773567000-1773570600@celebrationbeachchurch.com
SUMMARY:Sunday Main Service at Cambier Park - Pillows and Blanket Collection
DESCRIPTION:At Celebration Beach Church we invite you to come as you are\, and EVERYONE is welcome. Join us as we celebrate the love of God and explore the bible in a way that is real\, relevant\, and useful. And\, we do it all outdoors among all God’s creations. \nWe’re collecting new pillows and new blankets to help bring a little extra comfort and dignity to those who serve behind the scenes. \nA pillow may seem small\, a blanket may seem simple\, but comfort matters. \nBring your donations to the church this Sunday and help us remind these traveling workers that they are seen\, valued and cared for.
URL:https://celebrationbeachchurch.com/event/sunday-main-service-5-5/
LOCATION:Cambier Park\, 755 8th Ave South\, Naples\, FL\, 34102\, United States
ATTACH;FMTTYPE=image/jpeg:https://celebrationbeachchurch.com/wp-content/uploads/2025/04/sundaymainservice.jpg
END:VEVENT
END:VCALENDAR