BEGIN:VCALENDAR
VERSION:2.0
PRODID:-//Celebration Beach Church - ECPv6.15.20//NONSGML v1.0//EN
CALSCALE:GREGORIAN
METHOD:PUBLISH
X-WR-CALNAME:Celebration Beach Church
X-ORIGINAL-URL:https://celebrationbeachchurch.com
X-WR-CALDESC:Events for Celebration Beach Church
REFRESH-INTERVAL;VALUE=DURATION:PT1H
X-Robots-Tag:noindex
X-PUBLISHED-TTL:PT1H
BEGIN:VTIMEZONE
TZID:America/New_York
BEGIN:DAYLIGHT
TZOFFSETFROM:-0500
TZOFFSETTO:-0400
TZNAME:EDT
DTSTART:20250309T070000
END:DAYLIGHT
BEGIN:STANDARD
TZOFFSETFROM:-0400
TZOFFSETTO:-0500
TZNAME:EST
DTSTART:20251102T060000
END:STANDARD
BEGIN:DAYLIGHT
TZOFFSETFROM:-0500
TZOFFSETTO:-0400
TZNAME:EDT
DTSTART:20260308T070000
END:DAYLIGHT
BEGIN:STANDARD
TZOFFSETFROM:-0400
TZOFFSETTO:-0500
TZNAME:EST
DTSTART:20261101T060000
END:STANDARD
BEGIN:DAYLIGHT
TZOFFSETFROM:-0500
TZOFFSETTO:-0400
TZNAME:EDT
DTSTART:20270314T070000
END:DAYLIGHT
BEGIN:STANDARD
TZOFFSETFROM:-0400
TZOFFSETTO:-0500
TZNAME:EST
DTSTART:20271107T060000
END:STANDARD
END:VTIMEZONE
BEGIN:VEVENT
DTSTART;TZID=America/New_York:20260417T113000
DTEND;TZID=America/New_York:20260417T123000
DTSTAMP:20260423T062606
CREATED:20250505T211448Z
LAST-MODIFIED:20250505T211516Z
UID:10001116-1776425400-1776429000@celebrationbeachchurch.com
SUMMARY:The Lunch Bunch
DESCRIPTION:There is nothing quite like a day out with your church family. Making time to break bread and share life is essential for any church family. The Lunch Bunch meets on the 3rd Friday of every month and gathers in various restaurants around Naples. The “Bunch” strives to have a fun time out and to share their spirit with one another. Everyone is welcome and encouraged to join us in this unique fun and fellowship opportunity. Contact: Terri Milbourn (239) 398-1367 for confirmation of time and location.
URL:https://celebrationbeachchurch.com/event/the-lunch-bunch/2026-04-17/
LOCATION:FL
ATTACH;FMTTYPE=image/jpeg:https://celebrationbeachchurch.com/wp-content/uploads/2023/04/The-Lunch-Bunch-Celebration-Beach-Church-min.jpg
END:VEVENT
END:VCALENDAR