BEGIN:VCALENDAR
VERSION:2.0
PRODID:-//Celebration Beach Church - ECPv6.15.20//NONSGML v1.0//EN
CALSCALE:GREGORIAN
METHOD:PUBLISH
X-ORIGINAL-URL:https://celebrationbeachchurch.com
X-WR-CALDESC:Events for Celebration Beach Church
REFRESH-INTERVAL;VALUE=DURATION:PT1H
X-Robots-Tag:noindex
X-PUBLISHED-TTL:PT1H
BEGIN:VTIMEZONE
TZID:America/New_York
BEGIN:DAYLIGHT
TZOFFSETFROM:-0500
TZOFFSETTO:-0400
TZNAME:EDT
DTSTART:20250309T070000
END:DAYLIGHT
BEGIN:STANDARD
TZOFFSETFROM:-0400
TZOFFSETTO:-0500
TZNAME:EST
DTSTART:20251102T060000
END:STANDARD
BEGIN:DAYLIGHT
TZOFFSETFROM:-0500
TZOFFSETTO:-0400
TZNAME:EDT
DTSTART:20260308T070000
END:DAYLIGHT
BEGIN:STANDARD
TZOFFSETFROM:-0400
TZOFFSETTO:-0500
TZNAME:EST
DTSTART:20261101T060000
END:STANDARD
BEGIN:DAYLIGHT
TZOFFSETFROM:-0500
TZOFFSETTO:-0400
TZNAME:EDT
DTSTART:20270314T070000
END:DAYLIGHT
BEGIN:STANDARD
TZOFFSETFROM:-0400
TZOFFSETTO:-0500
TZNAME:EST
DTSTART:20271107T060000
END:STANDARD
BEGIN:DAYLIGHT
TZOFFSETFROM:-0500
TZOFFSETTO:-0400
TZNAME:EDT
DTSTART:20280312T070000
END:DAYLIGHT
BEGIN:STANDARD
TZOFFSETFROM:-0400
TZOFFSETTO:-0500
TZNAME:EST
DTSTART:20281105T060000
END:STANDARD
END:VTIMEZONE
BEGIN:VEVENT
DTSTART;TZID=America/New_York:20261115T093000
DTEND;TZID=America/New_York:20261115T103000
DTSTAMP:20260419T094325
CREATED:20260106T193113Z
LAST-MODIFIED:20260106T193113Z
UID:10000080-1794735000-1794738600@celebrationbeachchurch.com
SUMMARY:Sunday Main Service at Cambier Park
DESCRIPTION:At Celebration Beach Church we invite you to come as you are\, and EVERYONE is welcome. Join us as we celebrate the love of God and explore the bible in a way that is real\, relevant\, and useful. And\, we do it all outdoors among all God’s creations.
URL:https://celebrationbeachchurch.com/event/sunday-main-service-5/2026-11-15/
LOCATION:Cambier Park\, 755 8th Ave South\, Naples\, FL\, 34102\, United States
ATTACH;FMTTYPE=image/jpeg:https://celebrationbeachchurch.com/wp-content/uploads/2025/04/sundaymainservice.jpg
END:VEVENT
BEGIN:VEVENT
DTSTART;TZID=America/New_York:20261122T093000
DTEND;TZID=America/New_York:20261122T103000
DTSTAMP:20260419T094325
CREATED:20260106T193113Z
LAST-MODIFIED:20260106T193113Z
UID:10000081-1795339800-1795343400@celebrationbeachchurch.com
SUMMARY:Sunday Main Service at Cambier Park
DESCRIPTION:At Celebration Beach Church we invite you to come as you are\, and EVERYONE is welcome. Join us as we celebrate the love of God and explore the bible in a way that is real\, relevant\, and useful. And\, we do it all outdoors among all God’s creations.
URL:https://celebrationbeachchurch.com/event/sunday-main-service-5/2026-11-22/
LOCATION:Cambier Park\, 755 8th Ave South\, Naples\, FL\, 34102\, United States
ATTACH;FMTTYPE=image/jpeg:https://celebrationbeachchurch.com/wp-content/uploads/2025/04/sundaymainservice.jpg
END:VEVENT
BEGIN:VEVENT
DTSTART;TZID=America/New_York:20261129T093000
DTEND;TZID=America/New_York:20261129T103000
DTSTAMP:20260419T094326
CREATED:20260106T193113Z
LAST-MODIFIED:20260106T193113Z
UID:10000082-1795944600-1795948200@celebrationbeachchurch.com
SUMMARY:Sunday Main Service at Cambier Park
DESCRIPTION:At Celebration Beach Church we invite you to come as you are\, and EVERYONE is welcome. Join us as we celebrate the love of God and explore the bible in a way that is real\, relevant\, and useful. And\, we do it all outdoors among all God’s creations.
URL:https://celebrationbeachchurch.com/event/sunday-main-service-5/2026-11-29/
LOCATION:Cambier Park\, 755 8th Ave South\, Naples\, FL\, 34102\, United States
ATTACH;FMTTYPE=image/jpeg:https://celebrationbeachchurch.com/wp-content/uploads/2025/04/sundaymainservice.jpg
END:VEVENT
BEGIN:VEVENT
DTSTART;TZID=America/New_York:20261206T093000
DTEND;TZID=America/New_York:20261206T103000
DTSTAMP:20260419T094326
CREATED:20260106T193113Z
LAST-MODIFIED:20260106T193113Z
UID:10000083-1796549400-1796553000@celebrationbeachchurch.com
SUMMARY:Sunday Main Service at Cambier Park
DESCRIPTION:At Celebration Beach Church we invite you to come as you are\, and EVERYONE is welcome. Join us as we celebrate the love of God and explore the bible in a way that is real\, relevant\, and useful. And\, we do it all outdoors among all God’s creations.
URL:https://celebrationbeachchurch.com/event/sunday-main-service-5/2026-12-06/
LOCATION:Cambier Park\, 755 8th Ave South\, Naples\, FL\, 34102\, United States
ATTACH;FMTTYPE=image/jpeg:https://celebrationbeachchurch.com/wp-content/uploads/2025/04/sundaymainservice.jpg
END:VEVENT
BEGIN:VEVENT
DTSTART;TZID=America/New_York:20261213T093000
DTEND;TZID=America/New_York:20261213T103000
DTSTAMP:20260419T094326
CREATED:20260106T193113Z
LAST-MODIFIED:20260106T193113Z
UID:10000084-1797154200-1797157800@celebrationbeachchurch.com
SUMMARY:Sunday Main Service at Cambier Park
DESCRIPTION:At Celebration Beach Church we invite you to come as you are\, and EVERYONE is welcome. Join us as we celebrate the love of God and explore the bible in a way that is real\, relevant\, and useful. And\, we do it all outdoors among all God’s creations.
URL:https://celebrationbeachchurch.com/event/sunday-main-service-5/2026-12-13/
LOCATION:Cambier Park\, 755 8th Ave South\, Naples\, FL\, 34102\, United States
ATTACH;FMTTYPE=image/jpeg:https://celebrationbeachchurch.com/wp-content/uploads/2025/04/sundaymainservice.jpg
END:VEVENT
BEGIN:VEVENT
DTSTART;TZID=America/New_York:20261220T093000
DTEND;TZID=America/New_York:20261220T103000
DTSTAMP:20260419T094326
CREATED:20260106T193113Z
LAST-MODIFIED:20260106T193113Z
UID:10000085-1797759000-1797762600@celebrationbeachchurch.com
SUMMARY:Sunday Main Service at Cambier Park
DESCRIPTION:At Celebration Beach Church we invite you to come as you are\, and EVERYONE is welcome. Join us as we celebrate the love of God and explore the bible in a way that is real\, relevant\, and useful. And\, we do it all outdoors among all God’s creations.
URL:https://celebrationbeachchurch.com/event/sunday-main-service-5/2026-12-20/
LOCATION:Cambier Park\, 755 8th Ave South\, Naples\, FL\, 34102\, United States
ATTACH;FMTTYPE=image/jpeg:https://celebrationbeachchurch.com/wp-content/uploads/2025/04/sundaymainservice.jpg
END:VEVENT
BEGIN:VEVENT
DTSTART;TZID=America/New_York:20261227T093000
DTEND;TZID=America/New_York:20261227T103000
DTSTAMP:20260419T094326
CREATED:20260106T193113Z
LAST-MODIFIED:20260106T193113Z
UID:10000086-1798363800-1798367400@celebrationbeachchurch.com
SUMMARY:Sunday Main Service at Cambier Park
DESCRIPTION:At Celebration Beach Church we invite you to come as you are\, and EVERYONE is welcome. Join us as we celebrate the love of God and explore the bible in a way that is real\, relevant\, and useful. And\, we do it all outdoors among all God’s creations.
URL:https://celebrationbeachchurch.com/event/sunday-main-service-5/2026-12-27/
LOCATION:Cambier Park\, 755 8th Ave South\, Naples\, FL\, 34102\, United States
ATTACH;FMTTYPE=image/jpeg:https://celebrationbeachchurch.com/wp-content/uploads/2025/04/sundaymainservice.jpg
END:VEVENT
BEGIN:VEVENT
DTSTART;TZID=America/New_York:20270103T093000
DTEND;TZID=America/New_York:20270103T103000
DTSTAMP:20260419T094326
CREATED:20260106T193113Z
LAST-MODIFIED:20260106T193113Z
UID:10000087-1798968600-1798972200@celebrationbeachchurch.com
SUMMARY:Sunday Main Service at Cambier Park
DESCRIPTION:At Celebration Beach Church we invite you to come as you are\, and EVERYONE is welcome. Join us as we celebrate the love of God and explore the bible in a way that is real\, relevant\, and useful. And\, we do it all outdoors among all God’s creations.
URL:https://celebrationbeachchurch.com/event/sunday-main-service-5/2027-01-03/
LOCATION:Cambier Park\, 755 8th Ave South\, Naples\, FL\, 34102\, United States
ATTACH;FMTTYPE=image/jpeg:https://celebrationbeachchurch.com/wp-content/uploads/2025/04/sundaymainservice.jpg
END:VEVENT
BEGIN:VEVENT
DTSTART;TZID=America/New_York:20270110T093000
DTEND;TZID=America/New_York:20270110T103000
DTSTAMP:20260419T094326
CREATED:20260106T193113Z
LAST-MODIFIED:20260106T193113Z
UID:10000088-1799573400-1799577000@celebrationbeachchurch.com
SUMMARY:Sunday Main Service at Cambier Park
DESCRIPTION:At Celebration Beach Church we invite you to come as you are\, and EVERYONE is welcome. Join us as we celebrate the love of God and explore the bible in a way that is real\, relevant\, and useful. And\, we do it all outdoors among all God’s creations.
URL:https://celebrationbeachchurch.com/event/sunday-main-service-5/2027-01-10/
LOCATION:Cambier Park\, 755 8th Ave South\, Naples\, FL\, 34102\, United States
ATTACH;FMTTYPE=image/jpeg:https://celebrationbeachchurch.com/wp-content/uploads/2025/04/sundaymainservice.jpg
END:VEVENT
BEGIN:VEVENT
DTSTART;TZID=America/New_York:20270117T093000
DTEND;TZID=America/New_York:20270117T103000
DTSTAMP:20260419T094326
CREATED:20260106T193113Z
LAST-MODIFIED:20260106T193113Z
UID:10000089-1800178200-1800181800@celebrationbeachchurch.com
SUMMARY:Sunday Main Service at Cambier Park
DESCRIPTION:At Celebration Beach Church we invite you to come as you are\, and EVERYONE is welcome. Join us as we celebrate the love of God and explore the bible in a way that is real\, relevant\, and useful. And\, we do it all outdoors among all God’s creations.
URL:https://celebrationbeachchurch.com/event/sunday-main-service-5/2027-01-17/
LOCATION:Cambier Park\, 755 8th Ave South\, Naples\, FL\, 34102\, United States
ATTACH;FMTTYPE=image/jpeg:https://celebrationbeachchurch.com/wp-content/uploads/2025/04/sundaymainservice.jpg
END:VEVENT
BEGIN:VEVENT
DTSTART;TZID=America/New_York:20270124T093000
DTEND;TZID=America/New_York:20270124T103000
DTSTAMP:20260419T094326
CREATED:20260106T193113Z
LAST-MODIFIED:20260106T193113Z
UID:10000090-1800783000-1800786600@celebrationbeachchurch.com
SUMMARY:Sunday Main Service at Cambier Park
DESCRIPTION:At Celebration Beach Church we invite you to come as you are\, and EVERYONE is welcome. Join us as we celebrate the love of God and explore the bible in a way that is real\, relevant\, and useful. And\, we do it all outdoors among all God’s creations.
URL:https://celebrationbeachchurch.com/event/sunday-main-service-5/2027-01-24/
LOCATION:Cambier Park\, 755 8th Ave South\, Naples\, FL\, 34102\, United States
ATTACH;FMTTYPE=image/jpeg:https://celebrationbeachchurch.com/wp-content/uploads/2025/04/sundaymainservice.jpg
END:VEVENT
BEGIN:VEVENT
DTSTART;TZID=America/New_York:20270131T093000
DTEND;TZID=America/New_York:20270131T103000
DTSTAMP:20260419T094326
CREATED:20260106T193113Z
LAST-MODIFIED:20260106T193113Z
UID:10000091-1801387800-1801391400@celebrationbeachchurch.com
SUMMARY:Sunday Main Service at Cambier Park
DESCRIPTION:At Celebration Beach Church we invite you to come as you are\, and EVERYONE is welcome. Join us as we celebrate the love of God and explore the bible in a way that is real\, relevant\, and useful. And\, we do it all outdoors among all God’s creations.
URL:https://celebrationbeachchurch.com/event/sunday-main-service-5/2027-01-31/
LOCATION:Cambier Park\, 755 8th Ave South\, Naples\, FL\, 34102\, United States
ATTACH;FMTTYPE=image/jpeg:https://celebrationbeachchurch.com/wp-content/uploads/2025/04/sundaymainservice.jpg
END:VEVENT
BEGIN:VEVENT
DTSTART;TZID=America/New_York:20270207T093000
DTEND;TZID=America/New_York:20270207T103000
DTSTAMP:20260419T094326
CREATED:20260106T193113Z
LAST-MODIFIED:20260106T193113Z
UID:10000092-1801992600-1801996200@celebrationbeachchurch.com
SUMMARY:Sunday Main Service at Cambier Park
DESCRIPTION:At Celebration Beach Church we invite you to come as you are\, and EVERYONE is welcome. Join us as we celebrate the love of God and explore the bible in a way that is real\, relevant\, and useful. And\, we do it all outdoors among all God’s creations.
URL:https://celebrationbeachchurch.com/event/sunday-main-service-5/2027-02-07/
LOCATION:Cambier Park\, 755 8th Ave South\, Naples\, FL\, 34102\, United States
ATTACH;FMTTYPE=image/jpeg:https://celebrationbeachchurch.com/wp-content/uploads/2025/04/sundaymainservice.jpg
END:VEVENT
BEGIN:VEVENT
DTSTART;TZID=America/New_York:20270214T093000
DTEND;TZID=America/New_York:20270214T103000
DTSTAMP:20260419T094326
CREATED:20260106T193113Z
LAST-MODIFIED:20260106T193113Z
UID:10000093-1802597400-1802601000@celebrationbeachchurch.com
SUMMARY:Sunday Main Service at Cambier Park
DESCRIPTION:At Celebration Beach Church we invite you to come as you are\, and EVERYONE is welcome. Join us as we celebrate the love of God and explore the bible in a way that is real\, relevant\, and useful. And\, we do it all outdoors among all God’s creations.
URL:https://celebrationbeachchurch.com/event/sunday-main-service-5/2027-02-14/
LOCATION:Cambier Park\, 755 8th Ave South\, Naples\, FL\, 34102\, United States
ATTACH;FMTTYPE=image/jpeg:https://celebrationbeachchurch.com/wp-content/uploads/2025/04/sundaymainservice.jpg
END:VEVENT
BEGIN:VEVENT
DTSTART;TZID=America/New_York:20270221T093000
DTEND;TZID=America/New_York:20270221T103000
DTSTAMP:20260419T094326
CREATED:20260106T193113Z
LAST-MODIFIED:20260106T193113Z
UID:10000094-1803202200-1803205800@celebrationbeachchurch.com
SUMMARY:Sunday Main Service at Cambier Park
DESCRIPTION:At Celebration Beach Church we invite you to come as you are\, and EVERYONE is welcome. Join us as we celebrate the love of God and explore the bible in a way that is real\, relevant\, and useful. And\, we do it all outdoors among all God’s creations.
URL:https://celebrationbeachchurch.com/event/sunday-main-service-5/2027-02-21/
LOCATION:Cambier Park\, 755 8th Ave South\, Naples\, FL\, 34102\, United States
ATTACH;FMTTYPE=image/jpeg:https://celebrationbeachchurch.com/wp-content/uploads/2025/04/sundaymainservice.jpg
END:VEVENT
BEGIN:VEVENT
DTSTART;TZID=America/New_York:20270228T093000
DTEND;TZID=America/New_York:20270228T103000
DTSTAMP:20260419T094326
CREATED:20260106T193113Z
LAST-MODIFIED:20260106T193113Z
UID:10000095-1803807000-1803810600@celebrationbeachchurch.com
SUMMARY:Sunday Main Service at Cambier Park
DESCRIPTION:At Celebration Beach Church we invite you to come as you are\, and EVERYONE is welcome. Join us as we celebrate the love of God and explore the bible in a way that is real\, relevant\, and useful. And\, we do it all outdoors among all God’s creations.
URL:https://celebrationbeachchurch.com/event/sunday-main-service-5/2027-02-28/
LOCATION:Cambier Park\, 755 8th Ave South\, Naples\, FL\, 34102\, United States
ATTACH;FMTTYPE=image/jpeg:https://celebrationbeachchurch.com/wp-content/uploads/2025/04/sundaymainservice.jpg
END:VEVENT
BEGIN:VEVENT
DTSTART;TZID=America/New_York:20270307T093000
DTEND;TZID=America/New_York:20270307T103000
DTSTAMP:20260419T094326
CREATED:20260106T193113Z
LAST-MODIFIED:20260106T193113Z
UID:10000096-1804411800-1804415400@celebrationbeachchurch.com
SUMMARY:Sunday Main Service at Cambier Park
DESCRIPTION:At Celebration Beach Church we invite you to come as you are\, and EVERYONE is welcome. Join us as we celebrate the love of God and explore the bible in a way that is real\, relevant\, and useful. And\, we do it all outdoors among all God’s creations.
URL:https://celebrationbeachchurch.com/event/sunday-main-service-5/2027-03-07/
LOCATION:Cambier Park\, 755 8th Ave South\, Naples\, FL\, 34102\, United States
ATTACH;FMTTYPE=image/jpeg:https://celebrationbeachchurch.com/wp-content/uploads/2025/04/sundaymainservice.jpg
END:VEVENT
BEGIN:VEVENT
DTSTART;TZID=America/New_York:20270314T093000
DTEND;TZID=America/New_York:20270314T103000
DTSTAMP:20260419T094326
CREATED:20260106T193113Z
LAST-MODIFIED:20260106T193113Z
UID:10000097-1805016600-1805020200@celebrationbeachchurch.com
SUMMARY:Sunday Main Service at Cambier Park
DESCRIPTION:At Celebration Beach Church we invite you to come as you are\, and EVERYONE is welcome. Join us as we celebrate the love of God and explore the bible in a way that is real\, relevant\, and useful. And\, we do it all outdoors among all God’s creations.
URL:https://celebrationbeachchurch.com/event/sunday-main-service-5/2027-03-14/
LOCATION:Cambier Park\, 755 8th Ave South\, Naples\, FL\, 34102\, United States
ATTACH;FMTTYPE=image/jpeg:https://celebrationbeachchurch.com/wp-content/uploads/2025/04/sundaymainservice.jpg
END:VEVENT
BEGIN:VEVENT
DTSTART;TZID=America/New_York:20270321T093000
DTEND;TZID=America/New_York:20270321T103000
DTSTAMP:20260419T094326
CREATED:20260106T193113Z
LAST-MODIFIED:20260106T193113Z
UID:10000098-1805621400-1805625000@celebrationbeachchurch.com
SUMMARY:Sunday Main Service at Cambier Park
DESCRIPTION:At Celebration Beach Church we invite you to come as you are\, and EVERYONE is welcome. Join us as we celebrate the love of God and explore the bible in a way that is real\, relevant\, and useful. And\, we do it all outdoors among all God’s creations.
URL:https://celebrationbeachchurch.com/event/sunday-main-service-5/2027-03-21/
LOCATION:Cambier Park\, 755 8th Ave South\, Naples\, FL\, 34102\, United States
ATTACH;FMTTYPE=image/jpeg:https://celebrationbeachchurch.com/wp-content/uploads/2025/04/sundaymainservice.jpg
END:VEVENT
BEGIN:VEVENT
DTSTART;TZID=America/New_York:20270328T093000
DTEND;TZID=America/New_York:20270328T103000
DTSTAMP:20260419T094326
CREATED:20260106T193113Z
LAST-MODIFIED:20260106T193113Z
UID:10000099-1806226200-1806229800@celebrationbeachchurch.com
SUMMARY:Sunday Main Service at Cambier Park
DESCRIPTION:At Celebration Beach Church we invite you to come as you are\, and EVERYONE is welcome. Join us as we celebrate the love of God and explore the bible in a way that is real\, relevant\, and useful. And\, we do it all outdoors among all God’s creations.
URL:https://celebrationbeachchurch.com/event/sunday-main-service-5/2027-03-28/
LOCATION:Cambier Park\, 755 8th Ave South\, Naples\, FL\, 34102\, United States
ATTACH;FMTTYPE=image/jpeg:https://celebrationbeachchurch.com/wp-content/uploads/2025/04/sundaymainservice.jpg
END:VEVENT
BEGIN:VEVENT
DTSTART;TZID=America/New_York:20270404T093000
DTEND;TZID=America/New_York:20270404T103000
DTSTAMP:20260419T094326
CREATED:20260106T193113Z
LAST-MODIFIED:20260106T193113Z
UID:10000100-1806831000-1806834600@celebrationbeachchurch.com
SUMMARY:Sunday Main Service at Cambier Park
DESCRIPTION:At Celebration Beach Church we invite you to come as you are\, and EVERYONE is welcome. Join us as we celebrate the love of God and explore the bible in a way that is real\, relevant\, and useful. And\, we do it all outdoors among all God’s creations.
URL:https://celebrationbeachchurch.com/event/sunday-main-service-5/2027-04-04/
LOCATION:Cambier Park\, 755 8th Ave South\, Naples\, FL\, 34102\, United States
ATTACH;FMTTYPE=image/jpeg:https://celebrationbeachchurch.com/wp-content/uploads/2025/04/sundaymainservice.jpg
END:VEVENT
BEGIN:VEVENT
DTSTART;TZID=America/New_York:20270411T093000
DTEND;TZID=America/New_York:20270411T103000
DTSTAMP:20260419T094326
CREATED:20260106T193113Z
LAST-MODIFIED:20260106T193113Z
UID:10000101-1807435800-1807439400@celebrationbeachchurch.com
SUMMARY:Sunday Main Service at Cambier Park
DESCRIPTION:At Celebration Beach Church we invite you to come as you are\, and EVERYONE is welcome. Join us as we celebrate the love of God and explore the bible in a way that is real\, relevant\, and useful. And\, we do it all outdoors among all God’s creations.
URL:https://celebrationbeachchurch.com/event/sunday-main-service-5/2027-04-11/
LOCATION:Cambier Park\, 755 8th Ave South\, Naples\, FL\, 34102\, United States
ATTACH;FMTTYPE=image/jpeg:https://celebrationbeachchurch.com/wp-content/uploads/2025/04/sundaymainservice.jpg
END:VEVENT
BEGIN:VEVENT
DTSTART;TZID=America/New_York:20270418T093000
DTEND;TZID=America/New_York:20270418T103000
DTSTAMP:20260419T094326
CREATED:20260106T193113Z
LAST-MODIFIED:20260106T193113Z
UID:10000102-1808040600-1808044200@celebrationbeachchurch.com
SUMMARY:Sunday Main Service at Cambier Park
DESCRIPTION:At Celebration Beach Church we invite you to come as you are\, and EVERYONE is welcome. Join us as we celebrate the love of God and explore the bible in a way that is real\, relevant\, and useful. And\, we do it all outdoors among all God’s creations.
URL:https://celebrationbeachchurch.com/event/sunday-main-service-5/2027-04-18/
LOCATION:Cambier Park\, 755 8th Ave South\, Naples\, FL\, 34102\, United States
ATTACH;FMTTYPE=image/jpeg:https://celebrationbeachchurch.com/wp-content/uploads/2025/04/sundaymainservice.jpg
END:VEVENT
BEGIN:VEVENT
DTSTART;TZID=America/New_York:20270425T093000
DTEND;TZID=America/New_York:20270425T103000
DTSTAMP:20260419T094326
CREATED:20260106T193113Z
LAST-MODIFIED:20260106T193113Z
UID:10000103-1808645400-1808649000@celebrationbeachchurch.com
SUMMARY:Sunday Main Service at Cambier Park
DESCRIPTION:At Celebration Beach Church we invite you to come as you are\, and EVERYONE is welcome. Join us as we celebrate the love of God and explore the bible in a way that is real\, relevant\, and useful. And\, we do it all outdoors among all God’s creations.
URL:https://celebrationbeachchurch.com/event/sunday-main-service-5/2027-04-25/
LOCATION:Cambier Park\, 755 8th Ave South\, Naples\, FL\, 34102\, United States
ATTACH;FMTTYPE=image/jpeg:https://celebrationbeachchurch.com/wp-content/uploads/2025/04/sundaymainservice.jpg
END:VEVENT
BEGIN:VEVENT
DTSTART;TZID=America/New_York:20270502T093000
DTEND;TZID=America/New_York:20270502T103000
DTSTAMP:20260419T094326
CREATED:20260106T193113Z
LAST-MODIFIED:20260106T193113Z
UID:10000104-1809250200-1809253800@celebrationbeachchurch.com
SUMMARY:Sunday Main Service at Cambier Park
DESCRIPTION:At Celebration Beach Church we invite you to come as you are\, and EVERYONE is welcome. Join us as we celebrate the love of God and explore the bible in a way that is real\, relevant\, and useful. And\, we do it all outdoors among all God’s creations.
URL:https://celebrationbeachchurch.com/event/sunday-main-service-5/2027-05-02/
LOCATION:Cambier Park\, 755 8th Ave South\, Naples\, FL\, 34102\, United States
ATTACH;FMTTYPE=image/jpeg:https://celebrationbeachchurch.com/wp-content/uploads/2025/04/sundaymainservice.jpg
END:VEVENT
BEGIN:VEVENT
DTSTART;TZID=America/New_York:20270509T093000
DTEND;TZID=America/New_York:20270509T103000
DTSTAMP:20260419T094326
CREATED:20260106T193113Z
LAST-MODIFIED:20260106T193113Z
UID:10000105-1809855000-1809858600@celebrationbeachchurch.com
SUMMARY:Sunday Main Service at Cambier Park
DESCRIPTION:At Celebration Beach Church we invite you to come as you are\, and EVERYONE is welcome. Join us as we celebrate the love of God and explore the bible in a way that is real\, relevant\, and useful. And\, we do it all outdoors among all God’s creations.
URL:https://celebrationbeachchurch.com/event/sunday-main-service-5/2027-05-09/
LOCATION:Cambier Park\, 755 8th Ave South\, Naples\, FL\, 34102\, United States
ATTACH;FMTTYPE=image/jpeg:https://celebrationbeachchurch.com/wp-content/uploads/2025/04/sundaymainservice.jpg
END:VEVENT
BEGIN:VEVENT
DTSTART;TZID=America/New_York:20270516T093000
DTEND;TZID=America/New_York:20270516T103000
DTSTAMP:20260419T094326
CREATED:20260106T193113Z
LAST-MODIFIED:20260106T193113Z
UID:10000106-1810459800-1810463400@celebrationbeachchurch.com
SUMMARY:Sunday Main Service at Cambier Park
DESCRIPTION:At Celebration Beach Church we invite you to come as you are\, and EVERYONE is welcome. Join us as we celebrate the love of God and explore the bible in a way that is real\, relevant\, and useful. And\, we do it all outdoors among all God’s creations.
URL:https://celebrationbeachchurch.com/event/sunday-main-service-5/2027-05-16/
LOCATION:Cambier Park\, 755 8th Ave South\, Naples\, FL\, 34102\, United States
ATTACH;FMTTYPE=image/jpeg:https://celebrationbeachchurch.com/wp-content/uploads/2025/04/sundaymainservice.jpg
END:VEVENT
BEGIN:VEVENT
DTSTART;TZID=America/New_York:20270523T093000
DTEND;TZID=America/New_York:20270523T103000
DTSTAMP:20260419T094326
CREATED:20260106T193113Z
LAST-MODIFIED:20260106T193113Z
UID:10000107-1811064600-1811068200@celebrationbeachchurch.com
SUMMARY:Sunday Main Service at Cambier Park
DESCRIPTION:At Celebration Beach Church we invite you to come as you are\, and EVERYONE is welcome. Join us as we celebrate the love of God and explore the bible in a way that is real\, relevant\, and useful. And\, we do it all outdoors among all God’s creations.
URL:https://celebrationbeachchurch.com/event/sunday-main-service-5/2027-05-23/
LOCATION:Cambier Park\, 755 8th Ave South\, Naples\, FL\, 34102\, United States
ATTACH;FMTTYPE=image/jpeg:https://celebrationbeachchurch.com/wp-content/uploads/2025/04/sundaymainservice.jpg
END:VEVENT
BEGIN:VEVENT
DTSTART;TZID=America/New_York:20270530T093000
DTEND;TZID=America/New_York:20270530T103000
DTSTAMP:20260419T094326
CREATED:20260106T193113Z
LAST-MODIFIED:20260106T193113Z
UID:10000108-1811669400-1811673000@celebrationbeachchurch.com
SUMMARY:Sunday Main Service at Cambier Park
DESCRIPTION:At Celebration Beach Church we invite you to come as you are\, and EVERYONE is welcome. Join us as we celebrate the love of God and explore the bible in a way that is real\, relevant\, and useful. And\, we do it all outdoors among all God’s creations.
URL:https://celebrationbeachchurch.com/event/sunday-main-service-5/2027-05-30/
LOCATION:Cambier Park\, 755 8th Ave South\, Naples\, FL\, 34102\, United States
ATTACH;FMTTYPE=image/jpeg:https://celebrationbeachchurch.com/wp-content/uploads/2025/04/sundaymainservice.jpg
END:VEVENT
BEGIN:VEVENT
DTSTART;TZID=America/New_York:20270606T093000
DTEND;TZID=America/New_York:20270606T103000
DTSTAMP:20260419T094326
CREATED:20260106T193113Z
LAST-MODIFIED:20260106T193113Z
UID:10000109-1812274200-1812277800@celebrationbeachchurch.com
SUMMARY:Sunday Main Service at Cambier Park
DESCRIPTION:At Celebration Beach Church we invite you to come as you are\, and EVERYONE is welcome. Join us as we celebrate the love of God and explore the bible in a way that is real\, relevant\, and useful. And\, we do it all outdoors among all God’s creations.
URL:https://celebrationbeachchurch.com/event/sunday-main-service-5/2027-06-06/
LOCATION:Cambier Park\, 755 8th Ave South\, Naples\, FL\, 34102\, United States
ATTACH;FMTTYPE=image/jpeg:https://celebrationbeachchurch.com/wp-content/uploads/2025/04/sundaymainservice.jpg
END:VEVENT
END:VCALENDAR